BEGIN:VCALENDAR
VERSION:2.0
PRODID:-//Plus propre ma ville - ECPv6.15.20//NONSGML v1.0//EN
CALSCALE:GREGORIAN
METHOD:PUBLISH
X-WR-CALNAME:Plus propre ma ville
X-ORIGINAL-URL:https://ppmv.grandangouleme.fr
X-WR-CALDESC:Évènements pour Plus propre ma ville
REFRESH-INTERVAL;VALUE=DURATION:PT1H
X-Robots-Tag:noindex
X-PUBLISHED-TTL:PT1H
BEGIN:VTIMEZONE
TZID:Europe/Paris
BEGIN:DAYLIGHT
TZOFFSETFROM:+0100
TZOFFSETTO:+0200
TZNAME:CEST
DTSTART:20250330T010000
END:DAYLIGHT
BEGIN:STANDARD
TZOFFSETFROM:+0200
TZOFFSETTO:+0100
TZNAME:CET
DTSTART:20251026T010000
END:STANDARD
BEGIN:DAYLIGHT
TZOFFSETFROM:+0100
TZOFFSETTO:+0200
TZNAME:CEST
DTSTART:20260329T010000
END:DAYLIGHT
BEGIN:STANDARD
TZOFFSETFROM:+0200
TZOFFSETTO:+0100
TZNAME:CET
DTSTART:20261025T010000
END:STANDARD
BEGIN:DAYLIGHT
TZOFFSETFROM:+0100
TZOFFSETTO:+0200
TZNAME:CEST
DTSTART:20270328T010000
END:DAYLIGHT
BEGIN:STANDARD
TZOFFSETFROM:+0200
TZOFFSETTO:+0100
TZNAME:CET
DTSTART:20271031T010000
END:STANDARD
END:VTIMEZONE
BEGIN:VEVENT
DTSTART;TZID=Europe/Paris:20260211T140000
DTEND;TZID=Europe/Paris:20260211T160000
DTSTAMP:20260424T221251
CREATED:20260123T102522Z
LAST-MODIFIED:20260211T091849Z
UID:10000042-1770818400-1770825600@ppmv.grandangouleme.fr
SUMMARY:Atelier confection pochette et porte-monnaie
DESCRIPTION:Création d’articles alternatifs au jetable avec du tissu\, bâches\, matière textile issue du réemploi\, etc.\nL’objectif est d’apprendre le réemploi de ces matières au quotidien. \nPour plus d’informations\, contactez l’Association de Régie Urbaine :\ntél : 05 45 91 05 73\ne-mail : contact@aru-angouleme.fr
URL:https://ppmv.grandangouleme.fr/evenement/atelier-confection-pochette-et-porte-monnaie/
LOCATION:Plan B\, 186 route de Paris\, Gond-Pontouvre\, 16160\, France
CATEGORIES:Atelier
ATTACH;FMTTYPE=image/png:https://ppmv.grandangouleme.fr/wp-content/uploads/2026/01/Capture-decran-2026-02-04-092538.png
END:VEVENT
BEGIN:VEVENT
DTSTART;TZID=Europe/Paris:20260225T140000
DTEND;TZID=Europe/Paris:20260225T153000
DTSTAMP:20260424T221251
CREATED:20260123T110241Z
LAST-MODIFIED:20260217T163409Z
UID:10000047-1772028000-1772033400@ppmv.grandangouleme.fr
SUMMARY:Atelier - confection lessive et dentifrice
DESCRIPTION:Découvrez les astuces pour réaliser votre lessive et votre dentifrice vous-même.\nFaites du bien à votre porte-monnaie et à la planète.\nPour plus d’informations\, contacter le Centre d’Information Jeunesse :  05 45 37 07 30
URL:https://ppmv.grandangouleme.fr/evenement/atelier-confection-lessive-et-dentifrice/
LOCATION:Plan B\, 186 route de Paris\, Gond-Pontouvre\, 16160\, France
CATEGORIES:Atelier
ATTACH;FMTTYPE=image/jpeg:https://ppmv.grandangouleme.fr/wp-content/uploads/2026/01/pexels-helloaesthe-15694640-scaled.jpg
END:VEVENT
BEGIN:VEVENT
DTSTART;TZID=Europe/Paris:20260225T180000
DTEND;TZID=Europe/Paris:20260225T200000
DTSTAMP:20260424T221251
CREATED:20260123T131929Z
LAST-MODIFIED:20260123T140014Z
UID:10000049-1772042400-1772049600@ppmv.grandangouleme.fr
SUMMARY:Initiation à la modélisation 3D
DESCRIPTION:L’association vous propose une séance gratuite de découverte du logiciel de modélisation 3D Openscade.\nCe logiciel libre fonctionne aussi bien sous LINUX que sous WINDOWS.\nIl permet de modéliser vos objets simplement en écrivant quelques lignes de codes.
URL:https://ppmv.grandangouleme.fr/evenement/initiation-a-la-modelisation-3d/
LOCATION:Plan B\, 186 route de Paris\, Gond-Pontouvre\, 16160\, France
CATEGORIES:Atelier
ATTACH;FMTTYPE=image/jpeg:https://ppmv.grandangouleme.fr/wp-content/uploads/2026/01/Laplla_net_Initiation-a-la-modelisation-3D.jpg
ORGANIZER;CN="LAPLLA.net #Plan B":MAILTO:contact@laplla.net
END:VEVENT
BEGIN:VEVENT
DTSTART;TZID=Europe/Paris:20260227T180000
DTEND;TZID=Europe/Paris:20260227T200000
DTSTAMP:20260424T221251
CREATED:20260209T150606Z
LAST-MODIFIED:20260209T150606Z
UID:10000050-1772215200-1772222400@ppmv.grandangouleme.fr
SUMMARY:Initiation à la modélisation 3D
DESCRIPTION:L’association vous propose une séance gratuite de découverte du logiciel de modélisation 3D Openscade.\nCe logiciel libre fonctionne aussi bien sous LINUX que sous WINDOWS.\nIl permet de modéliser vos objets simplement en écrivant quelques lignes de codes.
URL:https://ppmv.grandangouleme.fr/evenement/initiation-a-la-modelisation-3d-2/
LOCATION:Plan B\, 186 route de Paris\, Gond-Pontouvre\, 16160\, France
CATEGORIES:Atelier
ATTACH;FMTTYPE=image/jpeg:https://ppmv.grandangouleme.fr/wp-content/uploads/2026/01/Laplla_net_Initiation-a-la-modelisation-3D.jpg
ORGANIZER;CN="LAPLLA.net #Plan B":MAILTO:contact@laplla.net
END:VEVENT
BEGIN:VEVENT
DTSTART;TZID=Europe/Paris:20260228T093000
DTEND;TZID=Europe/Paris:20260228T120000
DTSTAMP:20260424T221251
CREATED:20260123T103132Z
LAST-MODIFIED:20260127T144146Z
UID:10000043-1772271000-1772280000@ppmv.grandangouleme.fr
SUMMARY:REPAIR Café - réparation appareils électroménagers
DESCRIPTION:Venez apprendre à réparer votre appareil électroménager. Faites du bien à votre porte-monnaie et à la planète en même temps !\n+ d’informations sur cet atelier\, vous pouvez contacter l’association « Les Petits Débrouillards »
URL:https://ppmv.grandangouleme.fr/evenement/repair-cafe-reparation-appareils-electromenagers-2/
LOCATION:Plan B\, 186 route de Paris\, Gond-Pontouvre\, 16160\, France
CATEGORIES:Atelier
ATTACH;FMTTYPE=image/jpeg:https://ppmv.grandangouleme.fr/wp-content/uploads/2026/01/tool-2766835_1280.jpg
END:VEVENT
BEGIN:VEVENT
DTSTART;TZID=Europe/Paris:20260228T140000
DTEND;TZID=Europe/Paris:20260228T160000
DTSTAMP:20260424T221251
CREATED:20260209T150831Z
LAST-MODIFIED:20260209T151243Z
UID:10000051-1772287200-1772294400@ppmv.grandangouleme.fr
SUMMARY:Initiation à la modélisation 3D
DESCRIPTION:L’association vous propose une séance gratuite de découverte du logiciel de modélisation 3D Openscade.\nCe logiciel libre fonctionne aussi bien sous LINUX que sous WINDOWS.\nIl permet de modéliser vos objets simplement en écrivant quelques lignes de codes.
URL:https://ppmv.grandangouleme.fr/evenement/initiation-a-la-modelisation-3d-3/
LOCATION:Plan B\, 186 route de Paris\, Gond-Pontouvre\, 16160\, France
CATEGORIES:Atelier
ATTACH;FMTTYPE=image/jpeg:https://ppmv.grandangouleme.fr/wp-content/uploads/2026/01/Laplla_net_Initiation-a-la-modelisation-3D.jpg
ORGANIZER;CN="LAPLLA.net #Plan B":MAILTO:contact@laplla.net
END:VEVENT
BEGIN:VEVENT
DTSTART;TZID=Europe/Paris:20260311T100000
DTEND;TZID=Europe/Paris:20260311T120000
DTSTAMP:20260424T221251
CREATED:20260224T075102Z
LAST-MODIFIED:20260224T075102Z
UID:10000055-1773223200-1773230400@ppmv.grandangouleme.fr
SUMMARY:REPAIR Café
DESCRIPTION:Apportez un objet en panne ou abîmé : \n-Appareils électriques portables (cafetières\, aspirateurs\, robots ménagers\, outils\, chargeurs\, matériel audio et vidéo…)\n-Jouets\n-Lampes \n\nPensez aux éléments nécessaires pour tester la réparation (haut-parleur pour une chaîne hi-fi\, CD pour un lecteur\, ampoule pour une lampe\, piles neuves d’une télé-commande…)\nSur place\, des bénévoles bricoleurs\, réparateurs vous accompagnent pour diagnostiquer et réparer ensemble\, plutôt que de le jeter. \nLes Repair Cafés contribuent à une consommation plus responsable\, à la sensibilisation écologique et à la dynamisation de la vie locale. \nOuvert à tous\, sur réservation au 06 71 93 98 75
URL:https://ppmv.grandangouleme.fr/evenement/repair-cafe/
LOCATION:Salle des fêtes de Bouëx\, 100 Rue de la Mairie\, Bouëx\, 16410\, France
CATEGORIES:Atelier
ATTACH;FMTTYPE=image/jpeg:https://ppmv.grandangouleme.fr/wp-content/uploads/2026/01/tool-2766835_1280.jpg
END:VEVENT
BEGIN:VEVENT
DTSTART;TZID=Europe/Paris:20260314T093000
DTEND;TZID=Europe/Paris:20260314T123000
DTSTAMP:20260424T221251
CREATED:20250916T135956Z
LAST-MODIFIED:20260311T145758Z
UID:10000012-1773480600-1773491400@ppmv.grandangouleme.fr
SUMMARY:Fresque du textile
DESCRIPTION:Découvrez les dessous de l’industrie textile\, ses impacts\, les alternatives pour une mode durable et rejoignez le mouvement !\nLa fresque du textile est un atelier collaboratif qui s’adresse à toutes et tous\, férus de mode ou pas. \nCet atelier est accessible à partir de 12 ans.
URL:https://ppmv.grandangouleme.fr/evenement/fresque-du-textile/
LOCATION:Plan B\, 186 route de Paris\, Gond-Pontouvre\, 16160\, France
CATEGORIES:Atelier
ATTACH;FMTTYPE=image/jpeg:https://ppmv.grandangouleme.fr/wp-content/uploads/2025/09/Fresque_charente_textiles-scaled.jpg
ORGANIZER;CN="GrandAngoul%C3%AAme #Plan B":MAILTO:service-dm@grandangouleme.fr
END:VEVENT
BEGIN:VEVENT
DTSTART;TZID=Europe/Paris:20260318T140000
DTEND;TZID=Europe/Paris:20260318T160000
DTSTAMP:20260424T221251
CREATED:20260123T104603Z
LAST-MODIFIED:20260312T125347Z
UID:10000044-1773842400-1773849600@ppmv.grandangouleme.fr
SUMMARY:Atelier - confection cosmétiques
DESCRIPTION:Savoir repérer les éléments déterminants sur les emballages (ingrédients principaux\, labels\, logos\, etc)\nEtre en mesure de choisir un produit le moins nocif possible pour sa santé et pour l’environnement.\nRepérer des solutions alternatives\, faciles à mettre en œuvre.\nApprendre à faire certains produits soi-même Savoir quels sont les ingrédients de base à avoir chez soi.\n\n\n\nBref\, prendre conscience qu’il est possible de changer ses habitudes au quotidien !
URL:https://ppmv.grandangouleme.fr/evenement/atelier-confection-cosmetiques/
LOCATION:Plan B\, 186 route de Paris\, Gond-Pontouvre\, 16160\, France
CATEGORIES:Atelier
ATTACH;FMTTYPE=image/jpeg:https://ppmv.grandangouleme.fr/wp-content/uploads/2026/01/Atelier-pm©Charente-Nature-2.jpg
ORGANIZER;CN="GrandAngoul%C3%AAme #Plan B":MAILTO:service-dm@grandangouleme.fr
END:VEVENT
BEGIN:VEVENT
DTSTART;TZID=Europe/Paris:20260325T140000
DTEND;TZID=Europe/Paris:20260325T160000
DTSTAMP:20260424T221251
CREATED:20260123T105447Z
LAST-MODIFIED:20260325T130444Z
UID:10000045-1774447200-1774454400@ppmv.grandangouleme.fr
SUMMARY:Atelier - confection serviettes de table
DESCRIPTION:Création d’articles alternatifs au jetable avec du tissu\, bâches et matière textile issue du réemploi.\nL’objectif est d’apprendre à réemployer ces matières pour créer un article utile au quotidien. \nPour plus d’informations\, contactez l’Association de Régie Urbaine :\ntél : 05 45 91 05 73\ne-mail : contact@aru-angouleme.fr
URL:https://ppmv.grandangouleme.fr/evenement/atelier-confection-serviettes-de-table/
LOCATION:Plan B\, 186 route de Paris\, Gond-Pontouvre\, 16160\, France
CATEGORIES:Atelier
ATTACH;FMTTYPE=image/jpeg:https://ppmv.grandangouleme.fr/wp-content/uploads/2026/01/pexels-suzyhazelwood-1266139-scaled.jpg
END:VEVENT
END:VCALENDAR