BEGIN:VCALENDAR
VERSION:2.0
PRODID:-//Plus propre ma ville - ECPv6.15.20//NONSGML v1.0//EN
CALSCALE:GREGORIAN
METHOD:PUBLISH
X-WR-CALNAME:Plus propre ma ville
X-ORIGINAL-URL:https://ppmv.grandangouleme.fr
X-WR-CALDESC:Évènements pour Plus propre ma ville
REFRESH-INTERVAL;VALUE=DURATION:PT1H
X-Robots-Tag:noindex
X-PUBLISHED-TTL:PT1H
BEGIN:VTIMEZONE
TZID:Europe/Paris
BEGIN:DAYLIGHT
TZOFFSETFROM:+0100
TZOFFSETTO:+0200
TZNAME:CEST
DTSTART:20250330T010000
END:DAYLIGHT
BEGIN:STANDARD
TZOFFSETFROM:+0200
TZOFFSETTO:+0100
TZNAME:CET
DTSTART:20251026T010000
END:STANDARD
BEGIN:DAYLIGHT
TZOFFSETFROM:+0100
TZOFFSETTO:+0200
TZNAME:CEST
DTSTART:20260329T010000
END:DAYLIGHT
BEGIN:STANDARD
TZOFFSETFROM:+0200
TZOFFSETTO:+0100
TZNAME:CET
DTSTART:20261025T010000
END:STANDARD
BEGIN:DAYLIGHT
TZOFFSETFROM:+0100
TZOFFSETTO:+0200
TZNAME:CEST
DTSTART:20270328T010000
END:DAYLIGHT
BEGIN:STANDARD
TZOFFSETFROM:+0200
TZOFFSETTO:+0100
TZNAME:CET
DTSTART:20271031T010000
END:STANDARD
END:VTIMEZONE
BEGIN:VEVENT
DTSTART;TZID=Europe/Paris:20260425T093000
DTEND;TZID=Europe/Paris:20260425T120000
DTSTAMP:20260424T121804
CREATED:20260123T105639Z
LAST-MODIFIED:20260420T074308Z
UID:10000046-1777109400-1777118400@ppmv.grandangouleme.fr
SUMMARY:REPAIR Café - réparation appareils électroménagers
DESCRIPTION:Venez apprendre à réparer votre appareil électroménager. Faites du bien à votre porte-monnaie et à la planète en même temps !\n+ d’informations sur cet atelier\, vous pouvez contacter l’association « Les Petits Débrouillards »  06 01 46 81 00
URL:https://ppmv.grandangouleme.fr/evenement/repair-cafe-reparation-appareils-electromenagers/
LOCATION:Plan B\, 186 route de Paris\, Gond-Pontouvre\, 16160\, France
CATEGORIES:Atelier
ATTACH;FMTTYPE=image/jpeg:https://ppmv.grandangouleme.fr/wp-content/uploads/2026/01/tool-2766835_1280.jpg
END:VEVENT
BEGIN:VEVENT
DTSTART;TZID=Europe/Paris:20260425T093000
DTEND;TZID=Europe/Paris:20260425T123000
DTSTAMP:20260424T121804
CREATED:20250916T132940Z
LAST-MODIFIED:20260422T134119Z
UID:10000009-1777109400-1777120200@ppmv.grandangouleme.fr
SUMMARY:Fresque des déchets [Reporté]
DESCRIPTION:Les participants\, face à une table blanche et une série de cartes\, doivent collaborer dans un exercice d’intelligence collective afin de dessiner le parcours du produit de l’achat jusqu’à son élimination\, et ses conséquences sur l’environnement. \nCet atelier est accessible à partir de 12 ans.
URL:https://ppmv.grandangouleme.fr/evenement/fresque-des-dechets/
LOCATION:Plan B\, 186 route de Paris\, Gond-Pontouvre\, 16160\, France
CATEGORIES:Atelier
ATTACH;FMTTYPE=image/jpeg:https://ppmv.grandangouleme.fr/wp-content/uploads/2025/09/Fresque_charente_dechets-scaled.jpg
ORGANIZER;CN="GrandAngoul%C3%AAme #Plan B":MAILTO:service-dm@grandangouleme.fr
END:VEVENT
BEGIN:VEVENT
DTSTART;TZID=Europe/Paris:20260429T140000
DTEND;TZID=Europe/Paris:20260429T160000
DTSTAMP:20260424T121804
CREATED:20260123T131202Z
LAST-MODIFIED:20260127T155641Z
UID:10000048-1777471200-1777478400@ppmv.grandangouleme.fr
SUMMARY:Atelier - confection sac à vrac
DESCRIPTION:Création d’articles alternatifs au jetable avec du tissu\, bâches et matière textile issue du réemploi.\nL’objectif est d’apprendre à réemployer ces matières pour créer un article utile au quotidien.
URL:https://ppmv.grandangouleme.fr/evenement/atelier-confection-sac-a-vrac/
LOCATION:Plan B\, 186 route de Paris\, Gond-Pontouvre\, 16160\, France
CATEGORIES:Atelier
ATTACH;FMTTYPE=image/jpeg:https://ppmv.grandangouleme.fr/wp-content/uploads/2025/11/ARU_sac-a-vrac-2.jpg
END:VEVENT
BEGIN:VEVENT
DTSTART;TZID=Europe/Paris:20260523T093000
DTEND;TZID=Europe/Paris:20260523T123000
DTSTAMP:20260424T121804
CREATED:20251003T071047Z
LAST-MODIFIED:20260420T073321Z
UID:10000033-1779528600-1779539400@ppmv.grandangouleme.fr
SUMMARY:Fresque de la mobilité
DESCRIPTION:Atelier collaboratif de sensibilisation aux effets des émissions « carbone » (CO2) liées à la mobilité des personnes.\nCette « fresque de la mobilité » vous invite à un parcours ludique vers une mobilité réduite en émission « carbone ».
URL:https://ppmv.grandangouleme.fr/evenement/fresque-de-la-mobilite/
LOCATION:Plan B\, 186 route de Paris\, Gond-Pontouvre\, 16160\, France
CATEGORIES:Atelier
ATTACH;FMTTYPE=image/jpeg:https://ppmv.grandangouleme.fr/wp-content/uploads/2025/09/Fresque_charente_dechets-scaled.jpg
ORGANIZER;CN="GrandAngoul%C3%AAme #Plan B":MAILTO:service-dm@grandangouleme.fr
END:VEVENT
BEGIN:VEVENT
DTSTART;TZID=Europe/Paris:20260530T093000
DTEND;TZID=Europe/Paris:20260530T120000
DTSTAMP:20260424T121804
CREATED:20260420T074433Z
LAST-MODIFIED:20260420T074433Z
UID:10000062-1780133400-1780142400@ppmv.grandangouleme.fr
SUMMARY:REPAIR Café - réparation appareils électroménagers
DESCRIPTION:Venez apprendre à réparer votre appareil électroménager. Faites du bien à votre porte-monnaie et à la planète en même temps !\n+ d’informations sur cet atelier\, vous pouvez contacter l’association « Les Petits Débrouillards »  06 01 46 81 00
URL:https://ppmv.grandangouleme.fr/evenement/repair-cafe-reparation-appareils-electromenagers-3/
LOCATION:Plan B\, 186 route de Paris\, Gond-Pontouvre\, 16160\, France
CATEGORIES:Atelier
ATTACH;FMTTYPE=image/jpeg:https://ppmv.grandangouleme.fr/wp-content/uploads/2026/01/tool-2766835_1280.jpg
END:VEVENT
BEGIN:VEVENT
DTSTART;TZID=Europe/Paris:20260606T093000
DTEND;TZID=Europe/Paris:20260606T123000
DTSTAMP:20260424T121804
CREATED:20251003T072123Z
LAST-MODIFIED:20260420T073310Z
UID:10000035-1780738200-1780749000@ppmv.grandangouleme.fr
SUMMARY:Fresque du numérique
DESCRIPTION:Saviez-vous que le numérique émet plus de gaz à effet de serre que la flotte mondiale de camions ?\n« La fresque du numérique » vous aide à comprendre\, en équipe\, et de manière ludique\, les enjeux environnementaux du numérique.\n135 000 personnes l’ont déjà vécu\, rejoignez-les ?
URL:https://ppmv.grandangouleme.fr/evenement/fresque-du-numerique/
LOCATION:Plan B\, 186 route de Paris\, Gond-Pontouvre\, 16160\, France
CATEGORIES:Atelier
ATTACH;FMTTYPE=image/jpeg:https://ppmv.grandangouleme.fr/wp-content/uploads/2025/09/Fresque_charente_dechets-scaled.jpg
ORGANIZER;CN="GrandAngoul%C3%AAme #Plan B":MAILTO:service-dm@grandangouleme.fr
END:VEVENT
BEGIN:VEVENT
DTSTART;TZID=Europe/Paris:20260611T180000
DTEND;TZID=Europe/Paris:20260611T200000
DTSTAMP:20260424T121804
CREATED:20260409T090135Z
LAST-MODIFIED:20260409T090135Z
UID:10000061-1781200800-1781208000@ppmv.grandangouleme.fr
SUMMARY:Atelier - Alternatives aux produits dangereux
DESCRIPTION:Cet atelier a pour but de vous faire prendre conscience de l’impact des produits d’entretien sur notre environnement au quotidien. Les produits ménagers en général\, coûtent chers et peuvent présenter une incidence sur notre santé (pollution intérieure et extérieure). \nLeurs emballages génèrent de plus\, énormément de déchets. Prenez le temps ici de décrypter les étiquettes de certains produits ménagers courants que vous utilisez peut-être déjà chez vous. Questionnez-vous pour reconnaître les labels de confiance de ces gammes de produits. Participez gratuitement à un atelier convivial pour découvrir surtout des recettes et astuces faciles et économiques pour fabriquer soi-même à la maison ! \n 
URL:https://ppmv.grandangouleme.fr/evenement/atelier-alternatives-aux-produits-dangereux/
LOCATION:Plan B\, 186 route de Paris\, Gond-Pontouvre\, 16160\, France
CATEGORIES:Atelier
ATTACH;FMTTYPE=image/jpeg:https://ppmv.grandangouleme.fr/wp-content/uploads/2026/03/photo.jpg
END:VEVENT
BEGIN:VEVENT
DTSTART;TZID=Europe/Paris:20260627T093000
DTEND;TZID=Europe/Paris:20260627T120000
DTSTAMP:20260424T121804
CREATED:20260420T074459Z
LAST-MODIFIED:20260420T074459Z
UID:10000063-1782552600-1782561600@ppmv.grandangouleme.fr
SUMMARY:REPAIR Café - réparation appareils électroménagers
DESCRIPTION:Venez apprendre à réparer votre appareil électroménager. Faites du bien à votre porte-monnaie et à la planète en même temps !\n+ d’informations sur cet atelier\, vous pouvez contacter l’association « Les Petits Débrouillards »  06 01 46 81 00
URL:https://ppmv.grandangouleme.fr/evenement/repair-cafe-reparation-appareils-electromenagers-4/
LOCATION:Plan B\, 186 route de Paris\, Gond-Pontouvre\, 16160\, France
CATEGORIES:Atelier
ATTACH;FMTTYPE=image/jpeg:https://ppmv.grandangouleme.fr/wp-content/uploads/2026/01/tool-2766835_1280.jpg
END:VEVENT
END:VCALENDAR