BEGIN:VCALENDAR
VERSION:2.0
PRODID:-//Plus propre ma ville - ECPv6.15.20//NONSGML v1.0//EN
CALSCALE:GREGORIAN
METHOD:PUBLISH
X-WR-CALNAME:Plus propre ma ville
X-ORIGINAL-URL:https://ppmv.grandangouleme.fr
X-WR-CALDESC:Évènements pour Plus propre ma ville
REFRESH-INTERVAL;VALUE=DURATION:PT1H
X-Robots-Tag:noindex
X-PUBLISHED-TTL:PT1H
BEGIN:VTIMEZONE
TZID:Europe/Paris
BEGIN:DAYLIGHT
TZOFFSETFROM:+0100
TZOFFSETTO:+0200
TZNAME:CEST
DTSTART:20240331T010000
END:DAYLIGHT
BEGIN:STANDARD
TZOFFSETFROM:+0200
TZOFFSETTO:+0100
TZNAME:CET
DTSTART:20241027T010000
END:STANDARD
BEGIN:DAYLIGHT
TZOFFSETFROM:+0100
TZOFFSETTO:+0200
TZNAME:CEST
DTSTART:20250330T010000
END:DAYLIGHT
BEGIN:STANDARD
TZOFFSETFROM:+0200
TZOFFSETTO:+0100
TZNAME:CET
DTSTART:20251026T010000
END:STANDARD
BEGIN:DAYLIGHT
TZOFFSETFROM:+0100
TZOFFSETTO:+0200
TZNAME:CEST
DTSTART:20260329T010000
END:DAYLIGHT
BEGIN:STANDARD
TZOFFSETFROM:+0200
TZOFFSETTO:+0100
TZNAME:CET
DTSTART:20261025T010000
END:STANDARD
END:VTIMEZONE
BEGIN:VEVENT
DTSTART;TZID=Europe/Paris:20251211T150000
DTEND;TZID=Europe/Paris:20251211T170000
DTSTAMP:20260423T191710
CREATED:20251105T144416Z
LAST-MODIFIED:20251105T144416Z
UID:10000040-1765465200-1765472400@ppmv.grandangouleme.fr
SUMMARY:Atelier Couronne de Noël
DESCRIPTION:Fabriquez votre propre couronne de Noël A partir de cintres\, de boules\, de guirlandes et d’autres éléments de décoration de réemploi \nA partir de 12 ans \nRéservation à faire par mail auprès de la Recyclerie AVRIL : avrilrecyclerie@gmail.com \nPartager\n				Partager sur Facebook(ouvre dans une nouvelle fenêtre)\n				Facebook\n			\n				Partager sur WhatsApp(ouvre dans une nouvelle fenêtre)\n				WhatsApp
URL:https://ppmv.grandangouleme.fr/evenement/atelier-couronne-de-noel/
LOCATION:Plan B\, 186 route de Paris\, Gond-Pontouvre\, 16160\, France
CATEGORIES:Atelier
ATTACH;FMTTYPE=image/jpeg:https://ppmv.grandangouleme.fr/wp-content/uploads/2025/11/avril_couronne.jpg
END:VEVENT
END:VCALENDAR