BEGIN:VCALENDAR
VERSION:2.0
PRODID:-//Plus propre ma ville - ECPv6.15.20//NONSGML v1.0//EN
CALSCALE:GREGORIAN
METHOD:PUBLISH
X-ORIGINAL-URL:https://ppmv.grandangouleme.fr
X-WR-CALDESC:Évènements pour Plus propre ma ville
REFRESH-INTERVAL;VALUE=DURATION:PT1H
X-Robots-Tag:noindex
X-PUBLISHED-TTL:PT1H
BEGIN:VTIMEZONE
TZID:Europe/Paris
BEGIN:DAYLIGHT
TZOFFSETFROM:+0100
TZOFFSETTO:+0200
TZNAME:CEST
DTSTART:20240331T010000
END:DAYLIGHT
BEGIN:STANDARD
TZOFFSETFROM:+0200
TZOFFSETTO:+0100
TZNAME:CET
DTSTART:20241027T010000
END:STANDARD
BEGIN:DAYLIGHT
TZOFFSETFROM:+0100
TZOFFSETTO:+0200
TZNAME:CEST
DTSTART:20250330T010000
END:DAYLIGHT
BEGIN:STANDARD
TZOFFSETFROM:+0200
TZOFFSETTO:+0100
TZNAME:CET
DTSTART:20251026T010000
END:STANDARD
BEGIN:DAYLIGHT
TZOFFSETFROM:+0100
TZOFFSETTO:+0200
TZNAME:CEST
DTSTART:20260329T010000
END:DAYLIGHT
BEGIN:STANDARD
TZOFFSETFROM:+0200
TZOFFSETTO:+0100
TZNAME:CET
DTSTART:20261025T010000
END:STANDARD
BEGIN:DAYLIGHT
TZOFFSETFROM:+0100
TZOFFSETTO:+0200
TZNAME:CEST
DTSTART:20270328T010000
END:DAYLIGHT
BEGIN:STANDARD
TZOFFSETFROM:+0200
TZOFFSETTO:+0100
TZNAME:CET
DTSTART:20271031T010000
END:STANDARD
END:VTIMEZONE
BEGIN:VEVENT
DTSTART;TZID=Europe/Paris:20260326T100000
DTEND;TZID=Europe/Paris:20260326T160000
DTSTAMP:20260423T194038
CREATED:20260209T155310Z
LAST-MODIFIED:20260209T155310Z
UID:10000054-1774519200-1774540800@ppmv.grandangouleme.fr
SUMMARY:Formation - Créer ses supports de communication
DESCRIPTION:La construction d’éléments de communication est une étape indispensable à toute démarche collective militante.\nTracts\, affiches\, flyers\, ou autres\, il faut connaître des outils de graphisme et impression pour mener à bien sa campagne de communication.\nVenez apprendre à créer vos supports de communication avec des logiciels libres. \nVous pouvez apporter votre pique-nique\, possibilité de restauration à moins de 5 min à pied. \nInscription ici \n  \nPartager\n				Partager sur Facebook(ouvre dans une nouvelle fenêtre)\n				Facebook\n			\n				Partager sur WhatsApp(ouvre dans une nouvelle fenêtre)\n				WhatsApp
URL:https://ppmv.grandangouleme.fr/evenement/formation-creer-ses-supports-de-communication/
LOCATION:Plan B\, 186 route de Paris\, Gond-Pontouvre\, 16160\, France
CATEGORIES:Formation
ATTACH;FMTTYPE=image/jpeg:https://ppmv.grandangouleme.fr/wp-content/uploads/2025/03/cyclofficine-d-angouleme-38c4b78672a845a58c6e43c4af7d41c8.jpg
END:VEVENT
BEGIN:VEVENT
DTSTART;TZID=Europe/Paris:20260318T093000
DTEND;TZID=Europe/Paris:20260318T163000
DTSTAMP:20260423T194038
CREATED:20260209T152717Z
LAST-MODIFIED:20260209T154518Z
UID:10000052-1773826200-1773851400@ppmv.grandangouleme.fr
SUMMARY:Formation - Financer son association
DESCRIPTION:Éplucher ensemble les différents formes de subvention.\nIdentifier les nuances dans les subventions publiques et comprendre l’élaboration des dossiers de demande.\nIdentifier d’autres modes de financements associatifs internes et externes. \nInscription ici \n  \nPartager\n				Partager sur Facebook(ouvre dans une nouvelle fenêtre)\n				Facebook\n			\n				Partager sur WhatsApp(ouvre dans une nouvelle fenêtre)\n				WhatsApp
URL:https://ppmv.grandangouleme.fr/evenement/formation-financer-son-association/
LOCATION:Plan B\, 186 route de Paris\, Gond-Pontouvre\, 16160\, France
CATEGORIES:Formation
ATTACH;FMTTYPE=image/jpeg:https://ppmv.grandangouleme.fr/wp-content/uploads/2025/03/cyclofficine-d-angouleme-38c4b78672a845a58c6e43c4af7d41c8.jpg
END:VEVENT
BEGIN:VEVENT
DTSTART;TZID=Europe/Paris:20260313T093000
DTEND;TZID=Europe/Paris:20260313T163000
DTSTAMP:20260423T194038
CREATED:20260209T153305Z
LAST-MODIFIED:20260209T153305Z
UID:10000053-1773394200-1773419400@ppmv.grandangouleme.fr
SUMMARY:Formation - Projet collectif et participatif
DESCRIPTION:Cette formation vise à accompagner les participants dans la conception et la mise en œuvre de projets collectifs et participatifs.\nElle apporte des outils concrets pour favoriser l’intelligence collective\, la coopération et l’implication active des parties prenantes\, de la définition des objectifs à l’évaluation du projet. \nInscription ici \n  \nPartager\n				Partager sur Facebook(ouvre dans une nouvelle fenêtre)\n				Facebook\n			\n				Partager sur WhatsApp(ouvre dans une nouvelle fenêtre)\n				WhatsApp
URL:https://ppmv.grandangouleme.fr/evenement/formation-projet-collectif-et-participatif/
LOCATION:Plan B\, 186 route de Paris\, Gond-Pontouvre\, 16160\, France
CATEGORIES:Formation
ATTACH;FMTTYPE=image/jpeg:https://ppmv.grandangouleme.fr/wp-content/uploads/2025/03/cyclofficine-d-angouleme-38c4b78672a845a58c6e43c4af7d41c8.jpg
END:VEVENT
BEGIN:VEVENT
DTSTART;TZID=Europe/Paris:20251004T100000
DTEND;TZID=Europe/Paris:20251004T170000
DTSTAMP:20260423T194038
CREATED:20250924T114331Z
LAST-MODIFIED:20250926T072137Z
UID:10000030-1759572000-1759597200@ppmv.grandangouleme.fr
SUMMARY:Vente de vélos d'occasion
DESCRIPTION:Venez vous équiper d’un vélo d’occasion tout prêt à rouler pour la rentrée ! \nLes vélos sont réparés par les bénévoles de La Cyclofficine d’Angoulême et revendus à prix fixe. \nLes prix des vélos adulte varient de 50 € à 90 € et + pour les quelques vélos ultra légers. \nSûrs qu’ici vous trouverez votre vélo de tous les jours ! Des lumières\, des antivols et quelques petits accessoires sont également disponibles sur place. \nPartager\n				Partager sur Facebook(ouvre dans une nouvelle fenêtre)\n				Facebook\n			\n				Partager sur WhatsApp(ouvre dans une nouvelle fenêtre)\n				WhatsApp
URL:https://ppmv.grandangouleme.fr/evenement/vente-de-velos-doccasion/
LOCATION:Plan B\, 186 route de Paris\, Gond-Pontouvre\, 16160\, France
CATEGORIES:Vente - occasion
ATTACH;FMTTYPE=image/jpeg:https://ppmv.grandangouleme.fr/wp-content/uploads/2025/09/2025_10_04_ventevelos_affiche.jpg
END:VEVENT
END:VCALENDAR