BEGIN:VCALENDAR
VERSION:2.0
PRODID:-//Plus propre ma ville - ECPv6.15.20//NONSGML v1.0//EN
CALSCALE:GREGORIAN
METHOD:PUBLISH
X-WR-CALNAME:Plus propre ma ville
X-ORIGINAL-URL:https://ppmv.grandangouleme.fr
X-WR-CALDESC:Évènements pour Plus propre ma ville
REFRESH-INTERVAL;VALUE=DURATION:PT1H
X-Robots-Tag:noindex
X-PUBLISHED-TTL:PT1H
BEGIN:VTIMEZONE
TZID:Europe/Paris
BEGIN:DAYLIGHT
TZOFFSETFROM:+0100
TZOFFSETTO:+0200
TZNAME:CEST
DTSTART:20240331T010000
END:DAYLIGHT
BEGIN:STANDARD
TZOFFSETFROM:+0200
TZOFFSETTO:+0100
TZNAME:CET
DTSTART:20241027T010000
END:STANDARD
BEGIN:DAYLIGHT
TZOFFSETFROM:+0100
TZOFFSETTO:+0200
TZNAME:CEST
DTSTART:20250330T010000
END:DAYLIGHT
BEGIN:STANDARD
TZOFFSETFROM:+0200
TZOFFSETTO:+0100
TZNAME:CET
DTSTART:20251026T010000
END:STANDARD
BEGIN:DAYLIGHT
TZOFFSETFROM:+0100
TZOFFSETTO:+0200
TZNAME:CEST
DTSTART:20260329T010000
END:DAYLIGHT
BEGIN:STANDARD
TZOFFSETFROM:+0200
TZOFFSETTO:+0100
TZNAME:CET
DTSTART:20261025T010000
END:STANDARD
BEGIN:DAYLIGHT
TZOFFSETFROM:+0100
TZOFFSETTO:+0200
TZNAME:CEST
DTSTART:20270328T010000
END:DAYLIGHT
BEGIN:STANDARD
TZOFFSETFROM:+0200
TZOFFSETTO:+0100
TZNAME:CET
DTSTART:20271031T010000
END:STANDARD
END:VTIMEZONE
BEGIN:VEVENT
DTSTART;TZID=Europe/Paris:20260228T140000
DTEND;TZID=Europe/Paris:20260228T160000
DTSTAMP:20260423T131823
CREATED:20260209T150831Z
LAST-MODIFIED:20260209T151243Z
UID:10000051-1772287200-1772294400@ppmv.grandangouleme.fr
SUMMARY:Initiation à la modélisation 3D
DESCRIPTION:L’association vous propose une séance gratuite de découverte du logiciel de modélisation 3D Openscade.\nCe logiciel libre fonctionne aussi bien sous LINUX que sous WINDOWS.\nIl permet de modéliser vos objets simplement en écrivant quelques lignes de codes. \nPartager\n				Partager sur Facebook(ouvre dans une nouvelle fenêtre)\n				Facebook\n			\n				Partager sur WhatsApp(ouvre dans une nouvelle fenêtre)\n				WhatsApp
URL:https://ppmv.grandangouleme.fr/evenement/initiation-a-la-modelisation-3d-3/
LOCATION:Plan B\, 186 route de Paris\, Gond-Pontouvre\, 16160\, France
CATEGORIES:Atelier
ATTACH;FMTTYPE=image/jpeg:https://ppmv.grandangouleme.fr/wp-content/uploads/2026/01/Laplla_net_Initiation-a-la-modelisation-3D.jpg
ORGANIZER;CN="LAPLLA.net #Plan B":MAILTO:contact@laplla.net
END:VEVENT
BEGIN:VEVENT
DTSTART;TZID=Europe/Paris:20260227T180000
DTEND;TZID=Europe/Paris:20260227T200000
DTSTAMP:20260423T131823
CREATED:20260209T150606Z
LAST-MODIFIED:20260209T150606Z
UID:10000050-1772215200-1772222400@ppmv.grandangouleme.fr
SUMMARY:Initiation à la modélisation 3D
DESCRIPTION:L’association vous propose une séance gratuite de découverte du logiciel de modélisation 3D Openscade.\nCe logiciel libre fonctionne aussi bien sous LINUX que sous WINDOWS.\nIl permet de modéliser vos objets simplement en écrivant quelques lignes de codes. \nPartager\n				Partager sur Facebook(ouvre dans une nouvelle fenêtre)\n				Facebook\n			\n				Partager sur WhatsApp(ouvre dans une nouvelle fenêtre)\n				WhatsApp
URL:https://ppmv.grandangouleme.fr/evenement/initiation-a-la-modelisation-3d-2/
LOCATION:Plan B\, 186 route de Paris\, Gond-Pontouvre\, 16160\, France
CATEGORIES:Atelier
ATTACH;FMTTYPE=image/jpeg:https://ppmv.grandangouleme.fr/wp-content/uploads/2026/01/Laplla_net_Initiation-a-la-modelisation-3D.jpg
ORGANIZER;CN="LAPLLA.net #Plan B":MAILTO:contact@laplla.net
END:VEVENT
BEGIN:VEVENT
DTSTART;TZID=Europe/Paris:20260225T180000
DTEND;TZID=Europe/Paris:20260225T200000
DTSTAMP:20260423T131823
CREATED:20260123T131929Z
LAST-MODIFIED:20260123T140014Z
UID:10000049-1772042400-1772049600@ppmv.grandangouleme.fr
SUMMARY:Initiation à la modélisation 3D
DESCRIPTION:L’association vous propose une séance gratuite de découverte du logiciel de modélisation 3D Openscade.\nCe logiciel libre fonctionne aussi bien sous LINUX que sous WINDOWS.\nIl permet de modéliser vos objets simplement en écrivant quelques lignes de codes. \nPartager\n				Partager sur Facebook(ouvre dans une nouvelle fenêtre)\n				Facebook\n			\n				Partager sur WhatsApp(ouvre dans une nouvelle fenêtre)\n				WhatsApp
URL:https://ppmv.grandangouleme.fr/evenement/initiation-a-la-modelisation-3d/
LOCATION:Plan B\, 186 route de Paris\, Gond-Pontouvre\, 16160\, France
CATEGORIES:Atelier
ATTACH;FMTTYPE=image/jpeg:https://ppmv.grandangouleme.fr/wp-content/uploads/2026/01/Laplla_net_Initiation-a-la-modelisation-3D.jpg
ORGANIZER;CN="LAPLLA.net #Plan B":MAILTO:contact@laplla.net
END:VEVENT
BEGIN:VEVENT
DTSTART;TZID=Europe/Paris:20251220T093000
DTEND;TZID=Europe/Paris:20251220T120000
DTSTAMP:20260423T131823
CREATED:20250923T113752Z
LAST-MODIFIED:20250923T114424Z
UID:10000029-1766223000-1766232000@ppmv.grandangouleme.fr
SUMMARY:Café Réparation
DESCRIPTION:Venez avec votre petit électroménager défectueux\, trouvez la panne et réparez-le avec l’aide des bénévoles. \nPartager\n				Partager sur Facebook(ouvre dans une nouvelle fenêtre)\n				Facebook\n			\n				Partager sur WhatsApp(ouvre dans une nouvelle fenêtre)\n				WhatsApp
URL:https://ppmv.grandangouleme.fr/evenement/cafe-reparation/
LOCATION:Plan B\, 186 route de Paris\, Gond-Pontouvre\, 16160\, France
CATEGORIES:Atelier
ATTACH;FMTTYPE=image/png:https://ppmv.grandangouleme.fr/wp-content/uploads/2025/09/LAPLLA.net-_Cafe_reparation-scaled.png
ORGANIZER;CN="LAPLLA.net #Plan B":MAILTO:contact@laplla.net
END:VEVENT
BEGIN:VEVENT
DTSTART;TZID=Europe/Paris:20251211T140000
DTEND;TZID=Europe/Paris:20251211T160000
DTSTAMP:20260423T131823
CREATED:20250922T084447Z
LAST-MODIFIED:20250922T141733Z
UID:10000014-1765461600-1765468800@ppmv.grandangouleme.fr
SUMMARY:Découverte et utilisation de Libre Office
DESCRIPTION:Cet atelier a pour objectif de vous présenter l’interface Libre Office\, la création d’un document type et la gestion de la mise en page. \nIl aura lieu dans le local de Laplla.net à PLAN B. \nNombre de places maximum (adultes) : 6 \nPour réserver : contact@laplla.net \nPus d’informations sur https://www.facebook.com/linux.charente ou https://laplla.net/ \nLe prix est libre ; vous pourrez si vous le souhaitez faire un don directement à l’association le jour de l’atelier. \nPartager\n				Partager sur Facebook(ouvre dans une nouvelle fenêtre)\n				Facebook\n			\n				Partager sur WhatsApp(ouvre dans une nouvelle fenêtre)\n				WhatsApp
URL:https://ppmv.grandangouleme.fr/evenement/decouverte-et-utilisation-de-libre-office/
LOCATION:Plan B\, 186 route de Paris\, Gond-Pontouvre\, 16160\, France
CATEGORIES:Atelier
ATTACH;FMTTYPE=image/png:https://ppmv.grandangouleme.fr/wp-content/uploads/2025/09/affiche-laplla.net_.png
ORGANIZER;CN="LAPLLA.net #Plan B":MAILTO:contact@laplla.net
END:VEVENT
BEGIN:VEVENT
DTSTART;TZID=Europe/Paris:20251204T140000
DTEND;TZID=Europe/Paris:20251204T160000
DTSTAMP:20260423T131823
CREATED:20250922T090032Z
LAST-MODIFIED:20250922T141850Z
UID:10000018-1764856800-1764864000@ppmv.grandangouleme.fr
SUMMARY:Découverte et utilisation de Firefox
DESCRIPTION:Cet atelier a pour objectif de vous présenter du navigateur Firefox\, les risques potentiels de la navigation et les différents points de sécurité à respecter. \nIl aura lieu dans le local de Laplla.net à PLAN B. \nNombre de places maximum (adultes) : 6 \nPour réserver : contact@laplla.net \nPus d’informations sur https://www.facebook.com/linux.charente ou https://laplla.net/ \nLe prix est libre ; vous pourrez si vous le souhaitez faire un don directement à l’association le jour de l’atelier. \nPartager\n				Partager sur Facebook(ouvre dans une nouvelle fenêtre)\n				Facebook\n			\n				Partager sur WhatsApp(ouvre dans une nouvelle fenêtre)\n				WhatsApp
URL:https://ppmv.grandangouleme.fr/evenement/decouverte-et-utilisation-de-firefox/
LOCATION:Plan B\, 186 route de Paris\, Gond-Pontouvre\, 16160\, France
CATEGORIES:Atelier
ATTACH;FMTTYPE=image/png:https://ppmv.grandangouleme.fr/wp-content/uploads/2025/09/affiche-laplla.net_.png
ORGANIZER;CN="LAPLLA.net #Plan B":MAILTO:contact@laplla.net
END:VEVENT
BEGIN:VEVENT
DTSTART;TZID=Europe/Paris:20251127T140000
DTEND;TZID=Europe/Paris:20251127T160000
DTSTAMP:20260423T131823
CREATED:20250922T091910Z
LAST-MODIFIED:20250922T141851Z
UID:10000022-1764252000-1764259200@ppmv.grandangouleme.fr
SUMMARY:Initiation à l'informatique et découverte des logiciels libres
DESCRIPTION:Cet atelier a pour objectif de vous initier à l’informatique tout en découvrant les différents logiciels libres et le système d’exploitation LINUX. \nIl aura lieu dans le local de Laplla.net à PLAN B. \nNombre de places maximum (adultes) : 6 \nPour réserver : contact@laplla.net \nPus d’informations sur https://www.facebook.com/linux.charente ou https://laplla.net/ \nLe prix est libre ; vous pourrez si vous le souhaitez faire un don directement à l’association le jour de l’atelier. \nPartager\n				Partager sur Facebook(ouvre dans une nouvelle fenêtre)\n				Facebook\n			\n				Partager sur WhatsApp(ouvre dans une nouvelle fenêtre)\n				WhatsApp
URL:https://ppmv.grandangouleme.fr/evenement/initiation-a-linformatique-et-decouverte-des-logiciels-libres/
LOCATION:Plan B\, 186 route de Paris\, Gond-Pontouvre\, 16160\, France
CATEGORIES:Atelier
ATTACH;FMTTYPE=image/png:https://ppmv.grandangouleme.fr/wp-content/uploads/2025/09/affiche-laplla.net_.png
ORGANIZER;CN="LAPLLA.net #Plan B":MAILTO:contact@laplla.net
END:VEVENT
BEGIN:VEVENT
DTSTART;TZID=Europe/Paris:20251120T140000
DTEND;TZID=Europe/Paris:20251120T160000
DTSTAMP:20260423T131823
CREATED:20250922T084812Z
LAST-MODIFIED:20250922T141733Z
UID:10000015-1763647200-1763654400@ppmv.grandangouleme.fr
SUMMARY:Découverte et utilisation de Libre Office
DESCRIPTION:Cet atelier a pour objectif de vous présenter l’interface Libre Office\, la création d’un document type et la gestion de la mise en page. \nIl aura lieu dans le local de Laplla.net à PLAN B. \nNombre de places maximum (adultes) : 6 \nPour réserver : contact@laplla.net \nPus d’informations sur https://www.facebook.com/linux.charente ou https://laplla.net/ \nLe prix est libre ; vous pourrez si vous le souhaitez faire un don directement à l’association le jour de l’atelier. \nPartager\n				Partager sur Facebook(ouvre dans une nouvelle fenêtre)\n				Facebook\n			\n				Partager sur WhatsApp(ouvre dans une nouvelle fenêtre)\n				WhatsApp
URL:https://ppmv.grandangouleme.fr/evenement/decouverte-et-utilisation-de-libre-office-2/
LOCATION:Plan B\, 186 route de Paris\, Gond-Pontouvre\, 16160\, France
CATEGORIES:Atelier
ATTACH;FMTTYPE=image/png:https://ppmv.grandangouleme.fr/wp-content/uploads/2025/09/affiche-laplla.net_.png
ORGANIZER;CN="LAPLLA.net #Plan B":MAILTO:contact@laplla.net
END:VEVENT
BEGIN:VEVENT
DTSTART;TZID=Europe/Paris:20251115T093000
DTEND;TZID=Europe/Paris:20251115T120000
DTSTAMP:20260423T131823
CREATED:20250926T072934Z
LAST-MODIFIED:20250926T072934Z
UID:10000031-1763199000-1763208000@ppmv.grandangouleme.fr
SUMMARY:Café Réparation
DESCRIPTION:Venez avec votre petit électroménager défectueux\, trouvez la panne et réparez-le avec l’aide des bénévoles. \nPartager\n				Partager sur Facebook(ouvre dans une nouvelle fenêtre)\n				Facebook\n			\n				Partager sur WhatsApp(ouvre dans une nouvelle fenêtre)\n				WhatsApp
URL:https://ppmv.grandangouleme.fr/evenement/cafe-reparation-2/
LOCATION:Plan B\, 186 route de Paris\, Gond-Pontouvre\, 16160\, France
CATEGORIES:Atelier
ATTACH;FMTTYPE=image/png:https://ppmv.grandangouleme.fr/wp-content/uploads/2025/09/LAPLLA.net-_Cafe_reparation-scaled.png
ORGANIZER;CN="LAPLLA.net #Plan B":MAILTO:contact@laplla.net
END:VEVENT
BEGIN:VEVENT
DTSTART;TZID=Europe/Paris:20251113T140000
DTEND;TZID=Europe/Paris:20251113T160000
DTSTAMP:20260423T131823
CREATED:20250922T090750Z
LAST-MODIFIED:20250922T141851Z
UID:10000019-1763042400-1763049600@ppmv.grandangouleme.fr
SUMMARY:Découverte et utilisation de Firefox
DESCRIPTION:Cet atelier a pour objectif de vous présenter du navigateur Firefox\, les risques potentiels de la navigation et les différents points de sécurité à respecter. \nIl aura lieu dans le local de Laplla.net à PLAN B. \nNombre de places maximum (adultes) : 6 \nPour réserver : contact@laplla.net \nPus d’informations sur https://www.facebook.com/linux.charente ou https://laplla.net/ \nLe prix est libre ; vous pourrez si vous le souhaitez faire un don directement à l’association le jour de l’atelier. \nPartager\n				Partager sur Facebook(ouvre dans une nouvelle fenêtre)\n				Facebook\n			\n				Partager sur WhatsApp(ouvre dans une nouvelle fenêtre)\n				WhatsApp
URL:https://ppmv.grandangouleme.fr/evenement/decouverte-et-utilisation-de-firefox-2/
LOCATION:Plan B\, 186 route de Paris\, Gond-Pontouvre\, 16160\, France
CATEGORIES:Atelier
ATTACH;FMTTYPE=image/png:https://ppmv.grandangouleme.fr/wp-content/uploads/2025/09/affiche-laplla.net_.png
ORGANIZER;CN="LAPLLA.net #Plan B":MAILTO:contact@laplla.net
END:VEVENT
BEGIN:VEVENT
DTSTART;TZID=Europe/Paris:20251106T140000
DTEND;TZID=Europe/Paris:20251106T160000
DTSTAMP:20260423T131823
CREATED:20250922T092030Z
LAST-MODIFIED:20250922T141851Z
UID:10000023-1762437600-1762444800@ppmv.grandangouleme.fr
SUMMARY:Initiation à l'informatique et découverte des logiciels libres
DESCRIPTION:Cet atelier a pour objectif de vous initier à l’informatique tout en découvrant les différents logiciels libres et le système d’exploitation LINUX. \nIl aura lieu dans le local de Laplla.net à PLAN B. \nNombre de places maximum (adultes) : 6 \nPour réserver : contact@laplla.net \nPus d’informations sur https://www.facebook.com/linux.charente ou https://laplla.net/ \nLe prix est libre ; vous pourrez si vous le souhaitez faire un don directement à l’association le jour de l’atelier. \nPartager\n				Partager sur Facebook(ouvre dans une nouvelle fenêtre)\n				Facebook\n			\n				Partager sur WhatsApp(ouvre dans une nouvelle fenêtre)\n				WhatsApp
URL:https://ppmv.grandangouleme.fr/evenement/initiation-a-linformatique-et-decouverte-des-logiciels-libres-2/
LOCATION:Plan B\, 186 route de Paris\, Gond-Pontouvre\, 16160\, France
CATEGORIES:Atelier
ATTACH;FMTTYPE=image/png:https://ppmv.grandangouleme.fr/wp-content/uploads/2025/09/affiche-laplla.net_.png
ORGANIZER;CN="LAPLLA.net #Plan B":MAILTO:contact@laplla.net
END:VEVENT
BEGIN:VEVENT
DTSTART;TZID=Europe/Paris:20251030T140000
DTEND;TZID=Europe/Paris:20251030T160000
DTSTAMP:20260423T131823
CREATED:20250922T090927Z
LAST-MODIFIED:20250922T141851Z
UID:10000020-1761832800-1761840000@ppmv.grandangouleme.fr
SUMMARY:Découverte et utilisation de Firefox
DESCRIPTION:Cet atelier a pour objectif de vous présenter du navigateur Firefox\, les risques potentiels de la navigation et les différents points de sécurité à respecter. \nIl aura lieu dans le local de Laplla.net à PLAN B. \nNombre de places maximum (adultes) : 6 \nPour réserver : contact@laplla.net \nPus d’informations sur https://www.facebook.com/linux.charente ou https://laplla.net/ \nLe prix est libre ; vous pourrez si vous le souhaitez faire un don directement à l’association le jour de l’atelier. \nPartager\n				Partager sur Facebook(ouvre dans une nouvelle fenêtre)\n				Facebook\n			\n				Partager sur WhatsApp(ouvre dans une nouvelle fenêtre)\n				WhatsApp
URL:https://ppmv.grandangouleme.fr/evenement/decouverte-et-utilisation-de-firefox-3/
LOCATION:Plan B\, 186 route de Paris\, Gond-Pontouvre\, 16160\, France
CATEGORIES:Atelier
ATTACH;FMTTYPE=image/png:https://ppmv.grandangouleme.fr/wp-content/uploads/2025/09/affiche-laplla.net_.png
ORGANIZER;CN="LAPLLA.net #Plan B":MAILTO:contact@laplla.net
END:VEVENT
BEGIN:VEVENT
DTSTART;TZID=Europe/Paris:20251023T140000
DTEND;TZID=Europe/Paris:20251023T160000
DTSTAMP:20260423T131823
CREATED:20250922T092253Z
LAST-MODIFIED:20250922T141851Z
UID:10000024-1761228000-1761235200@ppmv.grandangouleme.fr
SUMMARY:Initiation à l'informatique et découverte des logiciels libres
DESCRIPTION:Cet atelier a pour objectif de vous initier à l’informatique tout en découvrant les différents logiciels libres et le système d’exploitation LINUX. \nIl aura lieu dans le local de Laplla.net à PLAN B. \nNombre de places maximum (adultes) : 6 \nPour réserver : contact@laplla.net \nPus d’informations sur https://www.facebook.com/linux.charente ou https://laplla.net/ \nLe prix est libre ; vous pourrez si vous le souhaitez faire un don directement à l’association le jour de l’atelier. \nPartager\n				Partager sur Facebook(ouvre dans une nouvelle fenêtre)\n				Facebook\n			\n				Partager sur WhatsApp(ouvre dans une nouvelle fenêtre)\n				WhatsApp
URL:https://ppmv.grandangouleme.fr/evenement/initiation-a-linformatique-et-decouverte-des-logiciels-libres-3/
LOCATION:Plan B\, 186 route de Paris\, Gond-Pontouvre\, 16160\, France
CATEGORIES:Atelier
ATTACH;FMTTYPE=image/png:https://ppmv.grandangouleme.fr/wp-content/uploads/2025/09/affiche-laplla.net_.png
ORGANIZER;CN="LAPLLA.net #Plan B":MAILTO:contact@laplla.net
END:VEVENT
BEGIN:VEVENT
DTSTART;TZID=Europe/Paris:20251018T093000
DTEND;TZID=Europe/Paris:20251018T120000
DTSTAMP:20260423T131823
CREATED:20250926T073131Z
LAST-MODIFIED:20250926T073215Z
UID:10000032-1760779800-1760788800@ppmv.grandangouleme.fr
SUMMARY:Café Réparation
DESCRIPTION:Venez avec votre petit électroménager défectueux\, trouvez la panne et réparez-le avec l’aide des bénévoles. \nPartager\n				Partager sur Facebook(ouvre dans une nouvelle fenêtre)\n				Facebook\n			\n				Partager sur WhatsApp(ouvre dans une nouvelle fenêtre)\n				WhatsApp
URL:https://ppmv.grandangouleme.fr/evenement/cafe-reparation-3/
LOCATION:Plan B\, 186 route de Paris\, Gond-Pontouvre\, 16160\, France
CATEGORIES:Atelier
ATTACH;FMTTYPE=image/png:https://ppmv.grandangouleme.fr/wp-content/uploads/2025/09/LAPLLA.net-_Cafe_reparation-scaled.png
ORGANIZER;CN="LAPLLA.net #Plan B":MAILTO:contact@laplla.net
END:VEVENT
BEGIN:VEVENT
DTSTART;TZID=Europe/Paris:20251016T140000
DTEND;TZID=Europe/Paris:20251016T160000
DTSTAMP:20260423T131823
CREATED:20250922T085050Z
LAST-MODIFIED:20250922T141852Z
UID:10000016-1760623200-1760630400@ppmv.grandangouleme.fr
SUMMARY:Découverte et utilisation de Libre Office
DESCRIPTION:Cet atelier a pour objectif de vous présenter l’interface Libre Office\, la création d’un document type et la gestion de la mise en page. \nIl aura lieu dans le local de Laplla.net à PLAN B. \nNombre de places maximum (adultes) : 6 \nPour réserver : contact@laplla.net \nPus d’informations sur https://www.facebook.com/linux.charente ou https://laplla.net/ \nLe prix est libre ; vous pourrez si vous le souhaitez faire un don directement à l’association le jour de l’atelier. \nPartager\n				Partager sur Facebook(ouvre dans une nouvelle fenêtre)\n				Facebook\n			\n				Partager sur WhatsApp(ouvre dans une nouvelle fenêtre)\n				WhatsApp
URL:https://ppmv.grandangouleme.fr/evenement/decouverte-et-utilisation-de-libre-office-3/
LOCATION:Plan B\, 186 route de Paris\, Gond-Pontouvre\, 16160\, France
CATEGORIES:Atelier
ATTACH;FMTTYPE=image/png:https://ppmv.grandangouleme.fr/wp-content/uploads/2025/09/affiche-laplla.net_.png
ORGANIZER;CN="LAPLLA.net #Plan B":MAILTO:contact@laplla.net
END:VEVENT
BEGIN:VEVENT
DTSTART;TZID=Europe/Paris:20251009T140000
DTEND;TZID=Europe/Paris:20251009T160000
DTSTAMP:20260423T131823
CREATED:20250922T091353Z
LAST-MODIFIED:20250922T141937Z
UID:10000021-1760018400-1760025600@ppmv.grandangouleme.fr
SUMMARY:Découverte et utilisation de Libre Office
DESCRIPTION:Cet atelier a pour objectif de vous présenter l’interface Libre Office\, la création d’un document type et la gestion de la mise en page. \nIl aura lieu dans le local de Laplla.net à PLAN B. \nNombre de places maximum (adultes) : 6 \nPour réserver : contact@laplla.net \nPus d’informations sur https://www.facebook.com/linux.charente ou https://laplla.net/ \nLe prix est libre ; vous pourrez si vous le souhaitez faire un don directement à l’association le jour de l’atelier. \nPartager\n				Partager sur Facebook(ouvre dans une nouvelle fenêtre)\n				Facebook\n			\n				Partager sur WhatsApp(ouvre dans une nouvelle fenêtre)\n				WhatsApp
URL:https://ppmv.grandangouleme.fr/evenement/decouverte-et-utilisation-de-libre-office-5/
LOCATION:Plan B\, 186 route de Paris\, Gond-Pontouvre\, 16160\, France
CATEGORIES:Atelier
ATTACH;FMTTYPE=image/png:https://ppmv.grandangouleme.fr/wp-content/uploads/2025/09/affiche-laplla.net_.png
ORGANIZER;CN="LAPLLA.net #Plan B":MAILTO:contact@laplla.net
END:VEVENT
BEGIN:VEVENT
DTSTART;TZID=Europe/Paris:20251002T140000
DTEND;TZID=Europe/Paris:20251002T160000
DTSTAMP:20260423T131823
CREATED:20250922T092353Z
LAST-MODIFIED:20250922T141937Z
UID:10000025-1759413600-1759420800@ppmv.grandangouleme.fr
SUMMARY:Initiation à l'informatique et découverte des logiciels libres
DESCRIPTION:Cet atelier a pour objectif de vous initier à l’informatique tout en découvrant les différents logiciels libres et le système d’exploitation LINUX. \nIl aura lieu dans le local de Laplla.net à PLAN B. \nNombre de places maximum (adultes) : 6 \nPour réserver : contact@laplla.net \nPus d’informations sur https://www.facebook.com/linux.charente ou https://laplla.net/ \nLe prix est libre ; vous pourrez si vous le souhaitez faire un don directement à l’association le jour de l’atelier. \nPartager\n				Partager sur Facebook(ouvre dans une nouvelle fenêtre)\n				Facebook\n			\n				Partager sur WhatsApp(ouvre dans une nouvelle fenêtre)\n				WhatsApp
URL:https://ppmv.grandangouleme.fr/evenement/initiation-a-linformatique-et-decouverte-des-logiciels-libres-4/
LOCATION:Plan B\, 186 route de Paris\, Gond-Pontouvre\, 16160\, France
CATEGORIES:Atelier
ATTACH;FMTTYPE=image/png:https://ppmv.grandangouleme.fr/wp-content/uploads/2025/09/affiche-laplla.net_.png
ORGANIZER;CN="LAPLLA.net #Plan B":MAILTO:contact@laplla.net
END:VEVENT
BEGIN:VEVENT
DTSTART;TZID=Europe/Paris:20250925T140000
DTEND;TZID=Europe/Paris:20250925T160000
DTSTAMP:20260423T131823
CREATED:20250922T085523Z
LAST-MODIFIED:20250923T074431Z
UID:10000017-1758808800-1758816000@ppmv.grandangouleme.fr
SUMMARY:Découverte et utilisation de Libre Office
DESCRIPTION:Cet atelier a pour objectif de vous présenter l’interface Libre Office\, la création d’un document type et la gestion de la mise en page. \nIl aura lieu dans le local de Laplla.net à PLAN B. \nNombre de places maximum (adultes) : 6 \nPour réserver : contact@laplla.net \nPus d’informations sur https://www.facebook.com/linux.charente ou https://laplla.net/ \nLe prix est libre ; vous pourrez si vous le souhaitez faire un don directement à l’association le jour de l’atelier. \nPartager\n				Partager sur Facebook(ouvre dans une nouvelle fenêtre)\n				Facebook\n			\n				Partager sur WhatsApp(ouvre dans une nouvelle fenêtre)\n				WhatsApp
URL:https://ppmv.grandangouleme.fr/evenement/decouverte-et-utilisation-de-libre-office-4/
LOCATION:Plan B\, 186 route de Paris\, Gond-Pontouvre\, 16160\, France
CATEGORIES:Atelier
ATTACH;FMTTYPE=image/png:https://ppmv.grandangouleme.fr/wp-content/uploads/2025/09/affiche-laplla.net_.png
ORGANIZER;CN="LAPLLA.net #Plan B":MAILTO:contact@laplla.net
END:VEVENT
END:VCALENDAR