BEGIN:VCALENDAR
VERSION:2.0
PRODID:-//Plus propre ma ville - ECPv6.15.20//NONSGML v1.0//EN
CALSCALE:GREGORIAN
METHOD:PUBLISH
X-ORIGINAL-URL:https://ppmv.grandangouleme.fr
X-WR-CALDESC:Évènements pour Plus propre ma ville
REFRESH-INTERVAL;VALUE=DURATION:PT1H
X-Robots-Tag:noindex
X-PUBLISHED-TTL:PT1H
BEGIN:VTIMEZONE
TZID:Europe/Paris
BEGIN:DAYLIGHT
TZOFFSETFROM:+0100
TZOFFSETTO:+0200
TZNAME:CEST
DTSTART:20240331T010000
END:DAYLIGHT
BEGIN:STANDARD
TZOFFSETFROM:+0200
TZOFFSETTO:+0100
TZNAME:CET
DTSTART:20241027T010000
END:STANDARD
BEGIN:DAYLIGHT
TZOFFSETFROM:+0100
TZOFFSETTO:+0200
TZNAME:CEST
DTSTART:20250330T010000
END:DAYLIGHT
BEGIN:STANDARD
TZOFFSETFROM:+0200
TZOFFSETTO:+0100
TZNAME:CET
DTSTART:20251026T010000
END:STANDARD
BEGIN:DAYLIGHT
TZOFFSETFROM:+0100
TZOFFSETTO:+0200
TZNAME:CEST
DTSTART:20260329T010000
END:DAYLIGHT
BEGIN:STANDARD
TZOFFSETFROM:+0200
TZOFFSETTO:+0100
TZNAME:CET
DTSTART:20261025T010000
END:STANDARD
BEGIN:DAYLIGHT
TZOFFSETFROM:+0100
TZOFFSETTO:+0200
TZNAME:CEST
DTSTART:20270328T010000
END:DAYLIGHT
BEGIN:STANDARD
TZOFFSETFROM:+0200
TZOFFSETTO:+0100
TZNAME:CET
DTSTART:20271031T010000
END:STANDARD
END:VTIMEZONE
BEGIN:VEVENT
DTSTART;TZID=Europe/Paris:20260311T100000
DTEND;TZID=Europe/Paris:20260311T120000
DTSTAMP:20260423T132512
CREATED:20260224T075102Z
LAST-MODIFIED:20260224T075102Z
UID:10000055-1773223200-1773230400@ppmv.grandangouleme.fr
SUMMARY:REPAIR Café
DESCRIPTION:Apportez un objet en panne ou abîmé : \n-Appareils électriques portables (cafetières\, aspirateurs\, robots ménagers\, outils\, chargeurs\, matériel audio et vidéo…)\n-Jouets\n-Lampes \n\nPensez aux éléments nécessaires pour tester la réparation (haut-parleur pour une chaîne hi-fi\, CD pour un lecteur\, ampoule pour une lampe\, piles neuves d’une télé-commande…)\nSur place\, des bénévoles bricoleurs\, réparateurs vous accompagnent pour diagnostiquer et réparer ensemble\, plutôt que de le jeter. \nLes Repair Cafés contribuent à une consommation plus responsable\, à la sensibilisation écologique et à la dynamisation de la vie locale. \nOuvert à tous\, sur réservation au 06 71 93 98 75 \nPartager\n				Partager sur Facebook(ouvre dans une nouvelle fenêtre)\n				Facebook\n			\n				Partager sur WhatsApp(ouvre dans une nouvelle fenêtre)\n				WhatsApp
URL:https://ppmv.grandangouleme.fr/evenement/repair-cafe/
LOCATION:Salle des fêtes de Bouëx\, 100 Rue de la Mairie\, Bouëx\, 16410\, France
CATEGORIES:Atelier
ATTACH;FMTTYPE=image/jpeg:https://ppmv.grandangouleme.fr/wp-content/uploads/2026/01/tool-2766835_1280.jpg
END:VEVENT
BEGIN:VEVENT
DTSTART;TZID=Europe/Paris:20260228T093000
DTEND;TZID=Europe/Paris:20260228T120000
DTSTAMP:20260423T132512
CREATED:20260123T103132Z
LAST-MODIFIED:20260127T144146Z
UID:10000043-1772271000-1772280000@ppmv.grandangouleme.fr
SUMMARY:REPAIR Café - réparation appareils électroménagers
DESCRIPTION:Venez apprendre à réparer votre appareil électroménager. Faites du bien à votre porte-monnaie et à la planète en même temps !\n+ d’informations sur cet atelier\, vous pouvez contacter l’association « Les Petits Débrouillards » \nPartager\n				Partager sur Facebook(ouvre dans une nouvelle fenêtre)\n				Facebook\n			\n				Partager sur WhatsApp(ouvre dans une nouvelle fenêtre)\n				WhatsApp
URL:https://ppmv.grandangouleme.fr/evenement/repair-cafe-reparation-appareils-electromenagers-2/
LOCATION:Plan B\, 186 route de Paris\, Gond-Pontouvre\, 16160\, France
CATEGORIES:Atelier
ATTACH;FMTTYPE=image/jpeg:https://ppmv.grandangouleme.fr/wp-content/uploads/2026/01/tool-2766835_1280.jpg
END:VEVENT
BEGIN:VEVENT
DTSTART;TZID=Europe/Paris:20251220T093000
DTEND;TZID=Europe/Paris:20251220T120000
DTSTAMP:20260423T132512
CREATED:20250923T113752Z
LAST-MODIFIED:20250923T114424Z
UID:10000029-1766223000-1766232000@ppmv.grandangouleme.fr
SUMMARY:Café Réparation
DESCRIPTION:Venez avec votre petit électroménager défectueux\, trouvez la panne et réparez-le avec l’aide des bénévoles. \nPartager\n				Partager sur Facebook(ouvre dans une nouvelle fenêtre)\n				Facebook\n			\n				Partager sur WhatsApp(ouvre dans une nouvelle fenêtre)\n				WhatsApp
URL:https://ppmv.grandangouleme.fr/evenement/cafe-reparation/
LOCATION:Plan B\, 186 route de Paris\, Gond-Pontouvre\, 16160\, France
CATEGORIES:Atelier
ATTACH;FMTTYPE=image/png:https://ppmv.grandangouleme.fr/wp-content/uploads/2025/09/LAPLLA.net-_Cafe_reparation-scaled.png
ORGANIZER;CN="LAPLLA.net #Plan B":MAILTO:contact@laplla.net
END:VEVENT
BEGIN:VEVENT
DTSTART;TZID=Europe/Paris:20251115T093000
DTEND;TZID=Europe/Paris:20251115T120000
DTSTAMP:20260423T132512
CREATED:20250926T072934Z
LAST-MODIFIED:20250926T072934Z
UID:10000031-1763199000-1763208000@ppmv.grandangouleme.fr
SUMMARY:Café Réparation
DESCRIPTION:Venez avec votre petit électroménager défectueux\, trouvez la panne et réparez-le avec l’aide des bénévoles. \nPartager\n				Partager sur Facebook(ouvre dans une nouvelle fenêtre)\n				Facebook\n			\n				Partager sur WhatsApp(ouvre dans une nouvelle fenêtre)\n				WhatsApp
URL:https://ppmv.grandangouleme.fr/evenement/cafe-reparation-2/
LOCATION:Plan B\, 186 route de Paris\, Gond-Pontouvre\, 16160\, France
CATEGORIES:Atelier
ATTACH;FMTTYPE=image/png:https://ppmv.grandangouleme.fr/wp-content/uploads/2025/09/LAPLLA.net-_Cafe_reparation-scaled.png
ORGANIZER;CN="LAPLLA.net #Plan B":MAILTO:contact@laplla.net
END:VEVENT
BEGIN:VEVENT
DTSTART;TZID=Europe/Paris:20251018T093000
DTEND;TZID=Europe/Paris:20251018T120000
DTSTAMP:20260423T132512
CREATED:20250926T073131Z
LAST-MODIFIED:20250926T073215Z
UID:10000032-1760779800-1760788800@ppmv.grandangouleme.fr
SUMMARY:Café Réparation
DESCRIPTION:Venez avec votre petit électroménager défectueux\, trouvez la panne et réparez-le avec l’aide des bénévoles. \nPartager\n				Partager sur Facebook(ouvre dans une nouvelle fenêtre)\n				Facebook\n			\n				Partager sur WhatsApp(ouvre dans une nouvelle fenêtre)\n				WhatsApp
URL:https://ppmv.grandangouleme.fr/evenement/cafe-reparation-3/
LOCATION:Plan B\, 186 route de Paris\, Gond-Pontouvre\, 16160\, France
CATEGORIES:Atelier
ATTACH;FMTTYPE=image/png:https://ppmv.grandangouleme.fr/wp-content/uploads/2025/09/LAPLLA.net-_Cafe_reparation-scaled.png
ORGANIZER;CN="LAPLLA.net #Plan B":MAILTO:contact@laplla.net
END:VEVENT
END:VCALENDAR